BEGIN:VCALENDAR
VERSION:2.0
PRODID:-//Hurricane Brassband - ECPv6.15.20//NONSGML v1.0//EN
CALSCALE:GREGORIAN
METHOD:PUBLISH
X-WR-CALNAME:Hurricane Brassband
X-ORIGINAL-URL:https://hurricanebrassband.eu
X-WR-CALDESC:Events for Hurricane Brassband
REFRESH-INTERVAL;VALUE=DURATION:PT1H
X-Robots-Tag:noindex
X-PUBLISHED-TTL:PT1H
BEGIN:VTIMEZONE
TZID:Europe/Helsinki
BEGIN:DAYLIGHT
TZOFFSETFROM:+0200
TZOFFSETTO:+0300
TZNAME:EEST
DTSTART:20240331T010000
END:DAYLIGHT
BEGIN:STANDARD
TZOFFSETFROM:+0300
TZOFFSETTO:+0200
TZNAME:EET
DTSTART:20241027T010000
END:STANDARD
BEGIN:DAYLIGHT
TZOFFSETFROM:+0200
TZOFFSETTO:+0300
TZNAME:EEST
DTSTART:20250330T010000
END:DAYLIGHT
BEGIN:STANDARD
TZOFFSETFROM:+0300
TZOFFSETTO:+0200
TZNAME:EET
DTSTART:20251026T010000
END:STANDARD
BEGIN:DAYLIGHT
TZOFFSETFROM:+0200
TZOFFSETTO:+0300
TZNAME:EEST
DTSTART:20260329T010000
END:DAYLIGHT
BEGIN:STANDARD
TZOFFSETFROM:+0300
TZOFFSETTO:+0200
TZNAME:EET
DTSTART:20261025T010000
END:STANDARD
BEGIN:DAYLIGHT
TZOFFSETFROM:+0200
TZOFFSETTO:+0300
TZNAME:EEST
DTSTART:20270328T010000
END:DAYLIGHT
BEGIN:STANDARD
TZOFFSETFROM:+0300
TZOFFSETTO:+0200
TZNAME:EET
DTSTART:20271031T010000
END:STANDARD
END:VTIMEZONE
BEGIN:VEVENT
DTSTART;TZID=Europe/Helsinki:20260619T000000
DTEND;TZID=Europe/Helsinki:20260621T235959
DTSTAMP:20260422T012749
CREATED:20250105T192247Z
LAST-MODIFIED:20260306T165702Z
UID:6038-1781827200-1782086399@hurricanebrassband.eu
SUMMARY:Sound of Idstein (D) - 2026
DESCRIPTION:
URL:https://hurricanebrassband.eu/event/idstein-jazzfestival-d/
LOCATION:Altstadt Idstein\, Rathaus\, Idstein\, 65510\, Germany
CATEGORIES:Others
ATTACH;FMTTYPE=image/jpeg:https://hurricanebrassband.eu/wp-content/uploads/2021/01/Idstein.jpg
END:VEVENT
BEGIN:VEVENT
DTSTART;TZID=Europe/Helsinki:20260619T000000
DTEND;TZID=Europe/Helsinki:20260621T235959
DTSTAMP:20260422T012749
CREATED:20210730T140000Z
LAST-MODIFIED:20260306T173146Z
UID:5988-1781827200-1782086399@hurricanebrassband.eu
SUMMARY:EMF Eschweiler Music Festival 2026 (D)
DESCRIPTION:Die Hurrciane Brass Band hat bereits mehrmals in Eschweiler gespielt\, dank der Vermittlung von Max Krieger.
URL:https://hurricanebrassband.eu/event/emf-eschweiler-ewv-kneipenrallye/
LOCATION:Marktplatz Eschweiler\, Markt\, Eschweiler\, 52249\, Germany
CATEGORIES:Others
ATTACH;FMTTYPE=image/png:https://hurricanebrassband.eu/wp-content/uploads/2021/07/EMF-2026-e1752938103763.png
END:VEVENT
BEGIN:VEVENT
DTSTART;TZID=Europe/Helsinki:20260605T000000
DTEND;TZID=Europe/Helsinki:20260607T235959
DTSTAMP:20260422T012749
CREATED:20250105T194011Z
LAST-MODIFIED:20260306T172657Z
UID:8588-1780617600-1780876799@hurricanebrassband.eu
SUMMARY:51ste Jazz festival Enkhuizen 2026 (NL)
DESCRIPTION:Het Jazz Festival Enkhuizen is sinds 1974 een jaarlijks jazzevenement in de binnenstad van Enkhuizen. Van een eenmalige gebeurtenis groeide het uit tot een vierdaags festival met binnenlandse en buitenlandse jazzartiesten.
URL:https://hurricanebrassband.eu/event/jazz-festival-enkhuizen/
LOCATION:Enkhuizen\, Enkhuizen\, 1601 EM\, Netherlands
CATEGORIES:Others
ATTACH;FMTTYPE=image/png:https://hurricanebrassband.eu/wp-content/uploads/2023/02/Enkhuizen-e1675358696293.png
END:VEVENT
BEGIN:VEVENT
DTSTART;TZID=Europe/Helsinki:20260514T020000
DTEND;TZID=Europe/Helsinki:20260518T015959
DTSTAMP:20260422T012749
CREATED:20250105T194557Z
LAST-MODIFIED:20260306T165723Z
UID:2223-1778724000-1779069599@hurricanebrassband.eu
SUMMARY:Breda Jazz Festival 2026 (NL)
DESCRIPTION:
URL:https://hurricanebrassband.eu/event/breda-jazz-festival/
LOCATION:Binnenstad Breda\, Stadserf 2\, Breda\, 4811 XS\, Netherlands
CATEGORIES:Others
ATTACH;FMTTYPE=image/jpeg:https://hurricanebrassband.eu/wp-content/uploads/2021/01/Breda-scaled.jpg
END:VEVENT
BEGIN:VEVENT
DTSTART;TZID=Europe/Helsinki:20260510T000000
DTEND;TZID=Europe/Helsinki:20260517T235959
DTSTAMP:20260422T012749
CREATED:20200105T193002Z
LAST-MODIFIED:20260306T165803Z
UID:2290-1778371200-1779062399@hurricanebrassband.eu
SUMMARY:54. Internat. Dixieland Festival - Dresden (D)
DESCRIPTION:The Hurricane Brassband had the opportunity to play on the Internationales Dixieland Festival in Dresden a few times.
URL:https://hurricanebrassband.eu/event/internationales-dixieland-festival/
LOCATION:Dresden\, Dresden\, 01067\, Germany
CATEGORIES:Others
ATTACH;FMTTYPE=image/jpeg:https://hurricanebrassband.eu/wp-content/uploads/2020/04/HBB-Dresden-2013-1.jpg
END:VEVENT
BEGIN:VEVENT
DTSTART;TZID=Europe/Helsinki:20250822T170000
DTEND;TZID=Europe/Helsinki:20250824T170000
DTSTAMP:20260422T012749
CREATED:20250105T200510Z
LAST-MODIFIED:20250105T205838Z
UID:6044-1755882000-1756054800@hurricanebrassband.eu
SUMMARY:Broukay Jazz - Bassenge
DESCRIPTION:The weekend that is different from others. The weekend of three different jazz styles in as many days with sometimes unexpected encounters.
URL:https://hurricanebrassband.eu/event/broukay-jazz-bassenge-2/
LOCATION:Moulin du Broukay\, Chemin de Broukay 8\, Bassenge\, 4690\, Belgium
ATTACH;FMTTYPE=image/png:https://hurricanebrassband.eu/wp-content/uploads/2021/07/Broukay.png
END:VEVENT
BEGIN:VEVENT
DTSTART;TZID=Europe/Helsinki:20260426T230000
DTEND;TZID=Europe/Helsinki:20260503T225959
DTSTAMP:20260422T012749
CREATED:20250105T194500Z
LAST-MODIFIED:20260306T165810Z
UID:3925-1777244400-1777849199@hurricanebrassband.eu
SUMMARY:38. Jazzfest Gronau 2026 (D)
DESCRIPTION:Die Hurricane Brassband spielte regelmäßig in den Straßen von Gronau bei verschiedenen Anlässen.
URL:https://hurricanebrassband.eu/event/jazzfest-gronau/
LOCATION:Gronau\, Gronau\, 48599\, Germany
CATEGORIES:Others
ATTACH;FMTTYPE=image/jpeg:https://hurricanebrassband.eu/wp-content/uploads/2021/01/Gronau.jpg
ORGANIZER;CN="Kulturb%C3%BCro Gronau":MAILTO:info@stadtmarketing-gronau.de
END:VEVENT
BEGIN:VEVENT
DTSTART;TZID=Europe/Helsinki:20260426T000000
DTEND;TZID=Europe/Helsinki:20260426T000000
DTSTAMP:20260422T012749
CREATED:20260301T200500Z
LAST-MODIFIED:20260304T223307Z
UID:2101-1777161600-1777161600@hurricanebrassband.eu
SUMMARY:Rondje Watertoren - Schimmert (NL) - 2026
DESCRIPTION:Rondje Watertoren\n\n\n\n\nDate \n\n\n\n\n\n\nOp deze kunstmarkt heeft de Hurricane Brassband al enkele malen mogen spelen met dank aan onze fantastische saxofonist Jan Bessems (tevens wannabe banjo speler 😉 ) en zijn vrouw Marjo! \n\n\n\n\n\n\n\n\n\nKunstroute Rondje Watertoren is een kleinschalige en kwalitatieve kunstroute die jaarlijks plaats vindt op de laatste zondag in april te Schimmert.\n\n\n\n\n\n\n\n\n\n\n\n\n\n\n Website Rondje Watertoren
URL:https://hurricanebrassband.eu/event/rondje-watertoren-schimmert-breeze/
LOCATION:Watertoren Schimmert\, Nieuwstraat 33\, Schimmert\, 6333AN\, Netherlands
CATEGORIES:HBB gigs
ATTACH;FMTTYPE=image/jpeg:https://hurricanebrassband.eu/wp-content/uploads/2020/05/logo-Watertoren.jpg
END:VEVENT
BEGIN:VEVENT
DTSTART;TZID=Europe/Helsinki:20260416T000000
DTEND;TZID=Europe/Helsinki:20260419T010000
DTSTAMP:20260422T012749
CREATED:20250105T193500Z
LAST-MODIFIED:20260307T001714Z
UID:4711-1776297600-1776560400@hurricanebrassband.eu
SUMMARY:French Quarter Festival 2026 - New Orleans (USA)
DESCRIPTION:The Hurricane Brassband from Maastricht (the Netherlands / Europe) played several  times on the French Quarter Festival in New Orleans.
URL:https://hurricanebrassband.eu/event/french-quarter-festival/
LOCATION:French Quarter\, New Orleans\, LA\, 70116\, United States
CATEGORIES:Others
ATTACH;FMTTYPE=image/jpeg:https://hurricanebrassband.eu/wp-content/uploads/2025/04/Duren-instruments-break-20250614.jpg
ORGANIZER;CN="FRENCH QUARTER FESTIVALS%2C INC":MAILTO:info@fqfi.org
END:VEVENT
END:VCALENDAR