BEGIN:VCALENDAR
VERSION:2.0
PRODID:-//Hurricane Brassband - ECPv6.15.20//NONSGML v1.0//EN
CALSCALE:GREGORIAN
METHOD:PUBLISH
X-ORIGINAL-URL:https://hurricanebrassband.eu
X-WR-CALDESC:Events for Hurricane Brassband
REFRESH-INTERVAL;VALUE=DURATION:PT1H
X-Robots-Tag:noindex
X-PUBLISHED-TTL:PT1H
BEGIN:VTIMEZONE
TZID:Europe/Helsinki
BEGIN:DAYLIGHT
TZOFFSETFROM:+0200
TZOFFSETTO:+0300
TZNAME:EEST
DTSTART:20250330T010000
END:DAYLIGHT
BEGIN:STANDARD
TZOFFSETFROM:+0300
TZOFFSETTO:+0200
TZNAME:EET
DTSTART:20251026T010000
END:STANDARD
BEGIN:DAYLIGHT
TZOFFSETFROM:+0200
TZOFFSETTO:+0300
TZNAME:EEST
DTSTART:20260329T010000
END:DAYLIGHT
BEGIN:STANDARD
TZOFFSETFROM:+0300
TZOFFSETTO:+0200
TZNAME:EET
DTSTART:20261025T010000
END:STANDARD
BEGIN:DAYLIGHT
TZOFFSETFROM:+0200
TZOFFSETTO:+0300
TZNAME:EEST
DTSTART:20270328T010000
END:DAYLIGHT
BEGIN:STANDARD
TZOFFSETFROM:+0300
TZOFFSETTO:+0200
TZNAME:EET
DTSTART:20271031T010000
END:STANDARD
END:VTIMEZONE
BEGIN:VEVENT
DTSTART;TZID=Europe/Helsinki:20260510T000000
DTEND;TZID=Europe/Helsinki:20260517T235959
DTSTAMP:20260421T184550
CREATED:20200105T193002Z
LAST-MODIFIED:20260306T165803Z
UID:2290-1778371200-1779062399@hurricanebrassband.eu
SUMMARY:54. Internat. Dixieland Festival - Dresden (D)
DESCRIPTION:The Hurricane Brassband had the opportunity to play on the Internationales Dixieland Festival in Dresden a few times.
URL:https://hurricanebrassband.eu/event/internationales-dixieland-festival/
LOCATION:Dresden\, Dresden\, 01067\, Germany
CATEGORIES:Others
ATTACH;FMTTYPE=image/jpeg:https://hurricanebrassband.eu/wp-content/uploads/2020/04/HBB-Dresden-2013-1.jpg
END:VEVENT
BEGIN:VEVENT
DTSTART;TZID=Europe/Helsinki:20260514T020000
DTEND;TZID=Europe/Helsinki:20260518T015959
DTSTAMP:20260421T184550
CREATED:20250105T194557Z
LAST-MODIFIED:20260306T165723Z
UID:2223-1778724000-1779069599@hurricanebrassband.eu
SUMMARY:Breda Jazz Festival 2026 (NL)
DESCRIPTION:
URL:https://hurricanebrassband.eu/event/breda-jazz-festival/
LOCATION:Binnenstad Breda\, Stadserf 2\, Breda\, 4811 XS\, Netherlands
CATEGORIES:Others
ATTACH;FMTTYPE=image/jpeg:https://hurricanebrassband.eu/wp-content/uploads/2021/01/Breda-scaled.jpg
END:VEVENT
END:VCALENDAR